BEGIN:VCALENDAR
PRODID:-//eluceo/ical//2.0/EN
VERSION:2.0
CALSCALE:GREGORIAN
BEGIN:VEVENT
UID:ba01849d4186b3dd808b0d150bb43bea
DTSTAMP:20260423T105827Z
SUMMARY:offen
DESCRIPTION:
URL:https://rotary-wil.ch/sv/agenda/show/21859
DTSTART;TZID=Europe/Zurich:20120228T000000
DTEND;TZID=Europe/Zurich:20120228T000000
LOCATION:Hotel Schwanen Wil
CATEGORIES:Rotary
END:VEVENT
BEGIN:VTIMEZONE
TZID:Europe/Zurich
BEGIN:STANDARD
DTSTART:20120228T000000
TZNAME:CET
TZOFFSETTO:+0100
TZOFFSETFROM:+0100
END:STANDARD
END:VTIMEZONE
END:VCALENDAR
