BEGIN:VCALENDAR
PRODID:-//eluceo/ical//2.0/EN
VERSION:2.0
CALSCALE:GREGORIAN
BEGIN:VEVENT
UID:c2cd877516ee7b29de30fedcd27e17df
DTSTAMP:20260423T211104Z
SUMMARY:Feierabendstamm
DESCRIPTION:
URL:https://rotary-wil.ch/sv/agenda/show/21852
DTSTART;TZID=Europe/Zurich:20120329T183000
DTEND;TZID=Europe/Zurich:20120329T183000
LOCATION:Rest. Rössli\, Zuzwil
CATEGORIES:Rotary
END:VEVENT
BEGIN:VTIMEZONE
TZID:Europe/Zurich
BEGIN:DAYLIGHT
DTSTART:20120329T183000
TZNAME:CEST
TZOFFSETTO:+0200
TZOFFSETFROM:+0200
END:DAYLIGHT
END:VTIMEZONE
END:VCALENDAR
