BEGIN:VCALENDAR
PRODID:-//eluceo/ical//2.0/EN
VERSION:2.0
CALSCALE:GREGORIAN
BEGIN:VEVENT
UID:732f28f797a082fa2d357873669caaec
DTSTAMP:20260423T192955Z
SUMMARY:TerrCal
DESCRIPTION:CO2-freundliche Produktion von Gemüse in CH-Gewächshäusern m
 it Restwärme aus Kehrichtheizkraftwerken.\nTalare: Rot. Markus Baer
URL:https://rotary-wil.ch/sv/agenda/show/21851
DTSTART;TZID=Europe/Zurich:20120326T121500
DTEND;TZID=Europe/Zurich:20120326T121500
LOCATION:Rest. Schwanen\, Wil
CATEGORIES:Rotary
END:VEVENT
BEGIN:VTIMEZONE
TZID:Europe/Zurich
BEGIN:DAYLIGHT
DTSTART:20120326T121500
TZNAME:CEST
TZOFFSETTO:+0200
TZOFFSETFROM:+0200
END:DAYLIGHT
END:VTIMEZONE
END:VCALENDAR
