BEGIN:VCALENDAR
PRODID:-//eluceo/ical//2.0/EN
VERSION:2.0
CALSCALE:GREGORIAN
BEGIN:VEVENT
UID:5bf116def550b7c570733d52b466f44c
DTSTAMP:20260423T175204Z
SUMMARY:Winterkontakttreffen mit RC Kempten
DESCRIPTION:
URL:https://rotary-wil.ch/sv/agenda/show/21850
DTSTART;TZID=Europe/Zurich:20120323T000000
DTEND;TZID=Europe/Zurich:20120325T000000
LOCATION:Au/Bregenzerwald
CATEGORIES:Rotary
END:VEVENT
BEGIN:VTIMEZONE
TZID:Europe/Zurich
BEGIN:STANDARD
DTSTART:20120323T000000
TZNAME:CET
TZOFFSETTO:+0100
TZOFFSETFROM:+0100
END:STANDARD
END:VTIMEZONE
END:VCALENDAR
