BEGIN:VCALENDAR
PRODID:-//eluceo/ical//2.0/EN
VERSION:2.0
CALSCALE:GREGORIAN
BEGIN:VEVENT
UID:46c52ab5b674d179befb02b3be180aab
DTSTAMP:20260423T155556Z
SUMMARY:Trauerlunch für Rot. Hans Grämiger
DESCRIPTION:Talare: offen
URL:https://rotary-wil.ch/sv/agenda/show/21849
DTSTART;TZID=Europe/Zurich:20120319T121500
DTEND;TZID=Europe/Zurich:20120319T121500
LOCATION:Hotel Schwanen Wil
CATEGORIES:Rotary
END:VEVENT
BEGIN:VTIMEZONE
TZID:Europe/Zurich
BEGIN:STANDARD
DTSTART:20120319T121500
TZNAME:CET
TZOFFSETTO:+0100
TZOFFSETFROM:+0100
END:STANDARD
END:VTIMEZONE
END:VCALENDAR
