BEGIN:VCALENDAR
PRODID:-//eluceo/ical//2.0/EN
VERSION:2.0
CALSCALE:GREGORIAN
BEGIN:VEVENT
UID:044f28d6f73757589e16dfc5f0226d1c
DTSTAMP:20260423T143342Z
SUMMARY:Neophyten
DESCRIPTION:Talare: Herr Max Forster
URL:https://rotary-wil.ch/sv/agenda/show/21605
DTSTART;TZID=Europe/Zurich:20120312T121500
DTEND;TZID=Europe/Zurich:20120312T121500
LOCATION:Rest. Schwanen\, Wil
CATEGORIES:Rotary
END:VEVENT
BEGIN:VTIMEZONE
TZID:Europe/Zurich
BEGIN:STANDARD
DTSTART:20120312T121500
TZNAME:CET
TZOFFSETTO:+0100
TZOFFSETFROM:+0100
END:STANDARD
END:VTIMEZONE
END:VCALENDAR
