BEGIN:VCALENDAR
PRODID:-//eluceo/ical//2.0/EN
VERSION:2.0
CALSCALE:GREGORIAN
BEGIN:VEVENT
UID:fdb1c325b1049d9ff17c3e1de1912bad
DTSTAMP:20260424T092527Z
SUMMARY:Bengel oder Engel - der Biber ist zurück\, Herr Konstantin Fuchs
DESCRIPTION:Relatore/i: Konstantin Fuchs
URL:https://rotary-wil.ch/it/agenda/show/49722
DTSTART;TZID=Europe/Zurich:20150706T184500
DTEND;TZID=Europe/Zurich:20150706T184500
LOCATION:Rest. Säntisblick\, Eschlikon
CATEGORIES:Rotary
END:VEVENT
BEGIN:VTIMEZONE
TZID:Europe/Zurich
BEGIN:DAYLIGHT
DTSTART:20150706T184500
TZNAME:CEST
TZOFFSETTO:+0200
TZOFFSETFROM:+0200
END:DAYLIGHT
END:VTIMEZONE
END:VCALENDAR
