BEGIN:VCALENDAR
PRODID:-//eluceo/ical//2.0/EN
VERSION:2.0
CALSCALE:GREGORIAN
BEGIN:VEVENT
UID:31897ef360d8c13e27130c69ac92d318
DTSTAMP:20260423T073650Z
SUMMARY:Besichtigung Kindlimann AG
DESCRIPTION:Relatore/i: Pirmin Helbling\, Vorsitzender der Geschäftsführu
 ng Kindlimann AG
URL:https://rotary-wil.ch/it/agenda/show/130532
DTSTART;TZID=Europe/Zurich:20210906T170000
DTEND;TZID=Europe/Zurich:20210906T220000
LOCATION:Kindlimann AG\, Tägerschen / Säntisblick\, Eschlikon
CATEGORIES:Rotary
END:VEVENT
BEGIN:VTIMEZONE
TZID:Europe/Zurich
BEGIN:DAYLIGHT
DTSTART:20210906T170000
TZNAME:CEST
TZOFFSETTO:+0200
TZOFFSETFROM:+0200
END:DAYLIGHT
END:VTIMEZONE
END:VCALENDAR
