BEGIN:VCALENDAR
PRODID:-//eluceo/ical//2.0/EN
VERSION:2.0
CALSCALE:GREGORIAN
BEGIN:VEVENT
UID:e87d5474e144baef3e676c3b100e4d76
DTSTAMP:20260423T072605Z
SUMMARY:Feierabend Apéro
DESCRIPTION:Sito web: http://www.roessli-wil.ch
URL:https://rotary-wil.ch/it/agenda/show/130508
DTSTART;TZID=Europe/Zurich:20210812T183000
DTEND;TZID=Europe/Zurich:20210812T203000
LOCATION:Restaurant Rössli\, Wil\, Toggenburgerstrasse 59\, 9500 Wil
CATEGORIES:Rotary
END:VEVENT
BEGIN:VTIMEZONE
TZID:Europe/Zurich
BEGIN:DAYLIGHT
DTSTART:20210812T183000
TZNAME:CEST
TZOFFSETTO:+0200
TZOFFSETFROM:+0200
END:DAYLIGHT
END:VTIMEZONE
END:VCALENDAR
