BEGIN:VCALENDAR
PRODID:-//eluceo/ical//2.0/EN
VERSION:2.0
CALSCALE:GREGORIAN
BEGIN:VEVENT
UID:9b17e3c0b908c320f36f61a81830dbd9
DTSTAMP:20260423T153327Z
SUMMARY:Feierabend Apéro
DESCRIPTION:Site internet: http://www.roessli-wil.ch
URL:https://rotary-wil.ch/fr/agenda/show/130509
DTSTART;TZID=Europe/Zurich:20210909T183000
DTEND;TZID=Europe/Zurich:20210909T203000
LOCATION:Restaurant Rössli\, Wil\, Toggenburgerstrasse 59\, 9500 Wil
CATEGORIES:Rotary
END:VEVENT
BEGIN:VTIMEZONE
TZID:Europe/Zurich
BEGIN:DAYLIGHT
DTSTART:20210909T183000
TZNAME:CEST
TZOFFSETTO:+0200
TZOFFSETFROM:+0200
END:DAYLIGHT
END:VTIMEZONE
END:VCALENDAR
