BEGIN:VCALENDAR
PRODID:-//eluceo/ical//2.0/EN
VERSION:2.0
CALSCALE:GREGORIAN
BEGIN:VEVENT
UID:70834602d52408df0f91a7bb7d738bcc
DTSTAMP:20260421T083339Z
SUMMARY:Feierabendapéro Wil
DESCRIPTION:Webseite: http://www.roessli-wil.ch
URL:https://rotary-wil.ch/de/agenda/show/45896
DTSTART;TZID=Europe/Zurich:20150108T183000
DTEND;TZID=Europe/Zurich:20150108T183000
LOCATION:Gasthof Rössli\, 9500 Wil
CATEGORIES:Rotary
END:VEVENT
BEGIN:VTIMEZONE
TZID:Europe/Zurich
BEGIN:STANDARD
DTSTART:20150108T183000
TZNAME:CET
TZOFFSETTO:+0100
TZOFFSETFROM:+0100
END:STANDARD
END:VTIMEZONE
END:VCALENDAR
