BEGIN:VCALENDAR
PRODID:-//eluceo/ical//2.0/EN
VERSION:2.0
CALSCALE:GREGORIAN
BEGIN:VEVENT
UID:d160783f337c54d936fc1555fdcce37e
DTSTAMP:20260421T090239Z
SUMMARY:Amtsübergabe
DESCRIPTION:Webseite: http://www.schloss-hagenwil.ch
URL:https://rotary-wil.ch/de/agenda/show/44832
DTSTART;TZID=Europe/Zurich:20150620T183000
DTEND;TZID=Europe/Zurich:20150620T183000
LOCATION:Wasserschloss Hagenwil\, 8580 Hagenwil b. Amriswil
CATEGORIES:Rotary
END:VEVENT
BEGIN:VTIMEZONE
TZID:Europe/Zurich
BEGIN:DAYLIGHT
DTSTART:20150620T183000
TZNAME:CEST
TZOFFSETTO:+0200
TZOFFSETFROM:+0200
END:DAYLIGHT
END:VTIMEZONE
END:VCALENDAR
