BEGIN:VCALENDAR
PRODID:-//eluceo/ical//2.0/EN
VERSION:2.0
CALSCALE:GREGORIAN
BEGIN:VEVENT
UID:f122586fb3f221c460998ed03114e11a
DTSTAMP:20260421T083447Z
SUMMARY:Halbjahresrückblick in Bildern / Rot. Elisabeth Eberle 
DESCRIPTION:
URL:https://rotary-wil.ch/de/agenda/show/36969
DTSTART;TZID=Europe/Zurich:20140106T000000
DTEND;TZID=Europe/Zurich:20140106T000000
LOCATION:Rest. Säntisblick\, Eschlikon
CATEGORIES:Rotary
END:VEVENT
BEGIN:VTIMEZONE
TZID:Europe/Zurich
BEGIN:STANDARD
DTSTART:20140106T000000
TZNAME:CET
TZOFFSETTO:+0100
TZOFFSETFROM:+0100
END:STANDARD
END:VTIMEZONE
END:VCALENDAR
