BEGIN:VCALENDAR
PRODID:-//eluceo/ical//2.0/EN
VERSION:2.0
CALSCALE:GREGORIAN
BEGIN:VEVENT
UID:da5b86bfd202164e2798eb61815a2dab
DTSTAMP:20260421T084735Z
SUMMARY:Auswärtsanlass!! kein Lunch im Schwanen / 11.30 Uhr Lunch on the s
 pot\, Zeintra AG / Rot. Max Zeintl
DESCRIPTION:
URL:https://rotary-wil.ch/de/agenda/show/33015
DTSTART;TZID=Europe/Zurich:20140310T000000
DTEND;TZID=Europe/Zurich:20140310T000000
LOCATION:Firma Zeintra Feldstrasse 4 / Wil
CATEGORIES:Rotary
END:VEVENT
BEGIN:VTIMEZONE
TZID:Europe/Zurich
BEGIN:STANDARD
DTSTART:20140310T000000
TZNAME:CET
TZOFFSETTO:+0100
TZOFFSETFROM:+0100
END:STANDARD
END:VTIMEZONE
END:VCALENDAR
