BEGIN:VCALENDAR
PRODID:-//eluceo/ical//2.0/EN
VERSION:2.0
CALSCALE:GREGORIAN
BEGIN:VEVENT
UID:6a9470642336903cbf0230a3ae218f09
DTSTAMP:20260419T123843Z
SUMMARY:Aufgaben und Organisation des Bundesverwal-tungsgerichts Vito Valen
 ti / Rot.Gonzague Overney
DESCRIPTION:
URL:https://rotary-wil.ch/de/agenda/show/32085
DTSTART;TZID=Europe/Zurich:20131209T000000
DTEND;TZID=Europe/Zurich:20131209T000000
LOCATION:Rest. Hof zu Wil
CATEGORIES:Rotary
END:VEVENT
BEGIN:VTIMEZONE
TZID:Europe/Zurich
BEGIN:STANDARD
DTSTART:20131209T000000
TZNAME:CET
TZOFFSETTO:+0100
TZOFFSETFROM:+0100
END:STANDARD
END:VTIMEZONE
END:VCALENDAR
