BEGIN:VCALENDAR
PRODID:-//eluceo/ical//2.0/EN
VERSION:2.0
CALSCALE:GREGORIAN
BEGIN:VEVENT
UID:d6f3abad63b93a971b917d6b19b49b5a
DTSTAMP:20260419T124213Z
SUMMARY:Polizeisprecher Hampi Krüsi / Rot. Elisabeth Eberle
DESCRIPTION:
URL:https://rotary-wil.ch/de/agenda/show/32084
DTSTART;TZID=Europe/Zurich:20131202T000000
DTEND;TZID=Europe/Zurich:20131202T000000
LOCATION:Rest. Säntisblick\, Eschlikon
CATEGORIES:Rotary
END:VEVENT
BEGIN:VTIMEZONE
TZID:Europe/Zurich
BEGIN:STANDARD
DTSTART:20131202T000000
TZNAME:CET
TZOFFSETTO:+0100
TZOFFSETFROM:+0100
END:STANDARD
END:VTIMEZONE
END:VCALENDAR
