BEGIN:VCALENDAR
PRODID:-//eluceo/ical//2.0/EN
VERSION:2.0
CALSCALE:GREGORIAN
BEGIN:VEVENT
UID:c11267084b42c021851cf9953d62fa83
DTSTAMP:20260420T111542Z
SUMMARY:Sessionsrückblick aus dem Bundeshaus   -   Vortrag von Rot. Hansj
 örg Walter.
DESCRIPTION:Web stranica: http://www.hofzuwil.ch
URL:https://rotary-wil.ch/bs/agenda/show/44499
DTSTART;TZID=Europe/Zurich:20141013T121500
DTEND;TZID=Europe/Zurich:20141013T121500
LOCATION:Restaurant Hof zu Wil\, 9500 Wil
CATEGORIES:Rotary
END:VEVENT
BEGIN:VTIMEZONE
TZID:Europe/Zurich
BEGIN:DAYLIGHT
DTSTART:20141013T121500
TZNAME:CEST
TZOFFSETTO:+0200
TZOFFSETFROM:+0200
END:DAYLIGHT
END:VTIMEZONE
END:VCALENDAR
