BEGIN:VCALENDAR
PRODID:-//eluceo/ical//2.0/EN
VERSION:2.0
CALSCALE:GREGORIAN
BEGIN:VEVENT
UID:49854624166d7979a87d96f3b9457cc0
DTSTAMP:20260420T090708Z
SUMMARY:Info Rotary Foundation   -   Rot. Karsten Beer
DESCRIPTION:Web stranica: http://www.hofzuwil.ch
URL:https://rotary-wil.ch/bs/agenda/show/43115
DTSTART;TZID=Europe/Zurich:20140811T121500
DTEND;TZID=Europe/Zurich:20140811T121500
LOCATION:Restaurant Hof zu Wil\, 9500 Wil
CATEGORIES:Rotary
END:VEVENT
BEGIN:VTIMEZONE
TZID:Europe/Zurich
BEGIN:DAYLIGHT
DTSTART:20140811T121500
TZNAME:CEST
TZOFFSETTO:+0200
TZOFFSETFROM:+0200
END:DAYLIGHT
END:VTIMEZONE
END:VCALENDAR
