BEGIN:VCALENDAR
PRODID:-//eluceo/ical//2.0/EN
VERSION:2.0
CALSCALE:GREGORIAN
BEGIN:VEVENT
UID:542e7e08819f2873bed95aa66edcfa9e
DTSTAMP:20260420T090518Z
SUMMARY:Feierabendstamm
DESCRIPTION:Govornik(ci): Rot. Reto Hollenstein
URL:https://rotary-wil.ch/bs/agenda/show/25524
DTSTART;TZID=Europe/Zurich:20130228T183000
DTEND;TZID=Europe/Zurich:20130228T183000
LOCATION:Rest. Rössli\, Zuzwil
CATEGORIES:Rotary
END:VEVENT
BEGIN:VTIMEZONE
TZID:Europe/Zurich
BEGIN:STANDARD
DTSTART:20130228T183000
TZNAME:CET
TZOFFSETTO:+0100
TZOFFSETFROM:+0100
END:STANDARD
END:VTIMEZONE
END:VCALENDAR
