BEGIN:VCALENDAR
PRODID:-//eluceo/ical//2.0/EN
VERSION:2.0
CALSCALE:GREGORIAN
BEGIN:VEVENT
UID:42fbbf356b5bdfb3504a3471b068c763
DTSTAMP:20260420T090852Z
SUMMARY:Lebenslauf Daniel Wessner
DESCRIPTION:Govornik(ci): Rot. Daniel Wessner
URL:https://rotary-wil.ch/bs/agenda/show/25498
DTSTART;TZID=Europe/Zurich:20121022T121500
DTEND;TZID=Europe/Zurich:20121022T121500
LOCATION:Rest. Hof zu Wil
CATEGORIES:Rotary
END:VEVENT
BEGIN:VTIMEZONE
TZID:Europe/Zurich
BEGIN:DAYLIGHT
DTSTART:20121022T121500
TZNAME:CEST
TZOFFSETTO:+0200
TZOFFSETFROM:+0200
END:DAYLIGHT
END:VTIMEZONE
END:VCALENDAR
