BEGIN:VCALENDAR
PRODID:-//eluceo/ical//2.0/EN
VERSION:2.0
CALSCALE:GREGORIAN
BEGIN:VEVENT
UID:c605e5d13fda5d8cb96e01e1aafa93c1
DTSTAMP:20260420T091120Z
SUMMARY:Spaghettata RC Wil-Hinterthurgau
DESCRIPTION:Govornik(ci): Rot. Christa Grämiger-Bürge
URL:https://rotary-wil.ch/bs/agenda/show/138059
DTSTART;TZID=Europe/Zurich:20220613T190000
DTEND;TZID=Europe/Zurich:20220613T220000
LOCATION:in der Trotte\, Höhenweg 25\, 9552 Bronschhofen
CATEGORIES:Rotary
END:VEVENT
BEGIN:VTIMEZONE
TZID:Europe/Zurich
BEGIN:DAYLIGHT
DTSTART:20220613T190000
TZNAME:CEST
TZOFFSETTO:+0200
TZOFFSETFROM:+0200
END:DAYLIGHT
END:VTIMEZONE
END:VCALENDAR
