BEGIN:VCALENDAR
PRODID:-//eluceo/ical//2.0/EN
VERSION:2.0
CALSCALE:GREGORIAN
BEGIN:VEVENT
UID:2d335b6d2ff4f27d141f1572e7c45d6e
DTSTAMP:20260420T130800Z
SUMMARY:Navigierte transkranielle Magnetstimulation – eine neue nicht-inv
 asive\, nicht-medikamentöse Therapie gegen Depressionen
DESCRIPTION:Web stranica: http://www.hotel-schwanen.ch\nGovornik(ci): Dr. m
 ed. Martin Wagner
URL:https://rotary-wil.ch/bs/agenda/show/138050
DTSTART;TZID=Europe/Zurich:20220411T121500
DTEND;TZID=Europe/Zurich:20220411T140000
LOCATION:Hotel Schwanen Wil\, Obere Bahnhofstr. 21\, 9500 Wil
CATEGORIES:Rotary
END:VEVENT
BEGIN:VTIMEZONE
TZID:Europe/Zurich
BEGIN:DAYLIGHT
DTSTART:20220411T121500
TZNAME:CEST
TZOFFSETTO:+0200
TZOFFSETFROM:+0200
END:DAYLIGHT
END:VTIMEZONE
END:VCALENDAR
