BEGIN:VCALENDAR
PRODID:-//eluceo/ical//2.0/EN
VERSION:2.0
CALSCALE:GREGORIAN
BEGIN:VEVENT
UID:a3660b3df09d6d66fdf451c2d4019947
DTSTAMP:20260420T130156Z
SUMMARY:Performance under pressure
DESCRIPTION:Govornik(ci): Oberstlt Daniel Pfiffner
URL:https://rotary-wil.ch/bs/agenda/show/137300
DTSTART;TZID=Europe/Zurich:20220404T183000
DTEND;TZID=Europe/Zurich:20220404T220000
LOCATION:Restaurant Säntisblick\, Säntisblick 10\, 8360 Eschlikon
CATEGORIES:Rotary
END:VEVENT
BEGIN:VTIMEZONE
TZID:Europe/Zurich
BEGIN:DAYLIGHT
DTSTART:20220404T183000
TZNAME:CEST
TZOFFSETTO:+0200
TZOFFSETFROM:+0200
END:DAYLIGHT
END:VTIMEZONE
END:VCALENDAR
